BEGIN:VCALENDAR
VERSION:2.0
PRODID:Macedonia, OH Calendar Creator
METHOD:PUBLISH
BEGIN:VEVENT
DTSTAMP:20260408T160016
DTSTART:20260516T090000
DTEND:20260516T120000
SUMMARY:Family Fishing Day
DESCRIPTION:Hook, line, and sinker, this event is a favorite! Come cast your reel and try your luck at catching some fish at Longwood Park featuring Kona Ice. Ages: 5-17; Registration required.*
X-ALT-DESC;FMTTYPE=text/html:Hook, line, and sinker, this event is a favorite! Come cast your reel and try your luck at catching some fish at Longwood Park featuring Kona Ice. Ages: 5-17; Registration required.*
LOCATION:Longwood Park\, 1566 E. Aurora Road Macedonia\, Ohio 44056
CLASS:PUBLIC
END:VEVENT
END:VCALENDAR
