BEGIN:VCALENDAR
VERSION:2.0
PRODID:Macedonia, OH Calendar Creator
METHOD:PUBLISH
BEGIN:VEVENT
DTSTAMP:20251230T170733
DTSTART:20260518T173000
DTEND:20260518T190000
SUMMARY:Planning Commission Meeting
DESCRIPTION:<p>The Planning Commission meeting is held in the City Council Chambers every third Monday at 5:30 p.m. Any public hearing begins at 5:15 p.m. Copies of the agenda are posted on the board outside the Council Chambers, and can also be located in the&nbsp;<a href="https://www.macedonia.oh.us/MacedoniaOH6/?navid=130">Meeting Portal</a>.</p><p><strong>Organizer</strong>:</p><p>Susan Roganish<br>330-468-8363<br><a href="mailto:&#115;&#114;&#111;&#103;&#97;&#110;&#105;&#115;&#104;&#64;&#109;&#97;&#99;&#101;&#100;&#111;&#110;&#105;&#97;&#46;&#111;&#104;&#46;&#117;&#115;">sroganish@macedonia.oh.us</a></p>
X-ALT-DESC;FMTTYPE=text/html:<p>The Planning Commission meeting is held in the City Council Chambers every third Monday at 5:30 p.m. Any public hearing begins at 5:15 p.m. Copies of the agenda are posted on the board outside the Council Chambers, and can also be located in the&nbsp;<a href="https://www.macedonia.oh.us/MacedoniaOH6/?navid=130">Meeting Portal</a>.</p><p><strong>Organizer</strong>:</p><p>Susan Roganish<br>330-468-8363<br><a href="mailto:&#115;&#114;&#111;&#103;&#97;&#110;&#105;&#115;&#104;&#64;&#109;&#97;&#99;&#101;&#100;&#111;&#110;&#105;&#97;&#46;&#111;&#104;&#46;&#117;&#115;">sroganish@macedonia.oh.us</a></p>
LOCATION:City Hall\, 9691 Valley View Rd. Macedonia\, Ohio 44056
CLASS:PUBLIC
END:VEVENT
END:VCALENDAR
